BEGIN:VCALENDAR
VERSION:2.0
PRODID:SchoolNow
CALSCALE:GREGORIAN
BEGIN:VEVENT
UID:17a29bfc-1a40-11ed-9ffd-0e062dd3c9cf
DTSTAMP:20230227T214759Z
SUMMARY:CDD Board Meeting - Mar. 2023
LOCATION:Connerton West Clubhouse\, located at 21100 Fountain Garden Way\, 
 Land O’ Lakes\, FL 34638
URL;VALUE=URI:https://www.connertonwestcdd.org/calendar/3279262/cdd-board-m
 eeting-mar-2023
DTSTART:20230306T210000Z
DTEND:20230307T000000Z
ATTACH;FILENAME=2023-03-06- Connerton West - Website Agenda.pdf;FMTTYPE=app
 lication/pdf:https://campussuite-storage.s3.amazonaws.com/prod/1558883/e20
 e3f24-ea99-11e9-9a30-0a31933f87ea/2557050/6354159a-b6e8-11ed-9e4c-021c45f8
 fae7/file/2023-03-06- Connerton West - Website Agenda.pdf
END:VEVENT
END:VCALENDAR
