BEGIN:VCALENDAR
VERSION:2.0
PRODID:SchoolNow
CALSCALE:GREGORIAN
BEGIN:VEVENT
UID:1ff52e68-7c72-11f0-af04-0a58a9feac02
DTSTAMP:20250818T203005Z
SUMMARY:CDD Board Meeting - May 2026
LOCATION:Connerton West Clubhouse\, located at 21100 Fountain Garden Way\, 
 Land O’ Lakes\, FL 34638
URL;VALUE=URI:https://www.connertonwestcdd.org/calendar/8518988/cdd-board-m
 eeting-may-2026
DTSTART:20260504T200000Z
DTEND:20260504T230000Z
END:VEVENT
END:VCALENDAR
