BEGIN:VCALENDAR
VERSION:2.0
PRODID:SchoolNow
CALSCALE:GREGORIAN
BEGIN:VEVENT
UID:e6ad9b98-1bf1-11f1-97ac-0a58a9feac02
DTSTAMP:20260420T210637Z
SUMMARY:Budget Workshop - Apr. 2026
LOCATION:Connerton West Clubhouse\, located at 21100 Fountain Garden Way\, 
 Land O’ Lakes\, FL 34638
URL;VALUE=URI:https://www.connertonwestcdd.org/calendar/8905076/budget-work
 shop-apr-2026
DTSTART:20260427T200000Z
DTEND:20260427T230000Z
ATTACH;FILENAME=2026-04-27 Connerton West - Budget Workshop Final Agenda.pd
 f;FMTTYPE=application/pdf:https://campussuite-storage.s3.amazonaws.com/pro
 d/1558883/e20e3f24-ea99-11e9-9a30-0a31933f87ea/3091189/cf5842be-3cfc-11f1-
 aee7-0a58a9feac02/file/2026-04-27 Connerton West - Budget Workshop Final A
 genda.pdf
END:VEVENT
END:VCALENDAR
